BEGIN:VCALENDAR
VERSION:2.0
PRODID:-//Filton Avenue Primary School - ECPv6.15.20//NONSGML v1.0//EN
CALSCALE:GREGORIAN
METHOD:PUBLISH
X-ORIGINAL-URL:https://filtonavenue.com
X-WR-CALDESC:Events for Filton Avenue Primary School
REFRESH-INTERVAL;VALUE=DURATION:PT1H
X-Robots-Tag:noindex
X-PUBLISHED-TTL:PT1H
BEGIN:VTIMEZONE
TZID:Europe/London
BEGIN:DAYLIGHT
TZOFFSETFROM:+0000
TZOFFSETTO:+0100
TZNAME:BST
DTSTART:20180325T010000
END:DAYLIGHT
BEGIN:STANDARD
TZOFFSETFROM:+0100
TZOFFSETTO:+0000
TZNAME:GMT
DTSTART:20181028T010000
END:STANDARD
BEGIN:DAYLIGHT
TZOFFSETFROM:+0000
TZOFFSETTO:+0100
TZNAME:BST
DTSTART:20190331T010000
END:DAYLIGHT
BEGIN:STANDARD
TZOFFSETFROM:+0100
TZOFFSETTO:+0000
TZNAME:GMT
DTSTART:20191027T010000
END:STANDARD
BEGIN:DAYLIGHT
TZOFFSETFROM:+0000
TZOFFSETTO:+0100
TZNAME:BST
DTSTART:20200329T010000
END:DAYLIGHT
BEGIN:STANDARD
TZOFFSETFROM:+0100
TZOFFSETTO:+0000
TZNAME:GMT
DTSTART:20201025T010000
END:STANDARD
END:VTIMEZONE
BEGIN:VEVENT
DTSTART;TZID=Europe/London:20190717T144500
DTEND;TZID=Europe/London:20190717T150000
DTSTAMP:20260422T112353
CREATED:20190529T163137Z
LAST-MODIFIED:20190529T163137Z
UID:22317-1563374700-1563375600@filtonavenue.com
SUMMARY:Year 4 Unique Voice Assembly
DESCRIPTION:Phase 1 Hall\nListen and watch your child’s class present their learning.
URL:https://filtonavenue.com/event/year-4-unique-voice-assembly/
LOCATION:Lockleaze Road
END:VEVENT
BEGIN:VEVENT
DTSTART;TZID=Europe/London:20190717T090000
DTEND;TZID=Europe/London:20190717T103000
DTSTAMP:20260422T112353
CREATED:20190529T163046Z
LAST-MODIFIED:20190529T163046Z
UID:22315-1563354000-1563359400@filtonavenue.com
SUMMARY:Shuffle-up
DESCRIPTION:Your child(ren) will be meeting their new teacher for the first time and spending the morning in their new classrooms.
URL:https://filtonavenue.com/event/shuffle-up/
LOCATION:Lockleaze Road
END:VEVENT
BEGIN:VEVENT
DTSTART;VALUE=DATE:20190717
DTEND;VALUE=DATE:20190718
DTSTAMP:20260422T112353
CREATED:20190703T115926Z
LAST-MODIFIED:20190703T115926Z
UID:22346-1563321600-1563407999@filtonavenue.com
SUMMARY:Shuffle-up
DESCRIPTION:Your child(ren) will be meeting their new teacher for the first time and spending the morning in their new classrooms.
URL:https://filtonavenue.com/event/shuffle-up-2/
LOCATION:Orchard Campus
END:VEVENT
BEGIN:VEVENT
DTSTART;TZID=Europe/London:20190712T143000
DTEND;TZID=Europe/London:20190712T153000
DTSTAMP:20260422T112353
CREATED:20190510T131035Z
LAST-MODIFIED:20190510T131035Z
UID:22256-1562941800-1562945400@filtonavenue.com
SUMMARY:Exhibition of Learning – Year 3
DESCRIPTION:Hall \nExhibitions of Learning are new to Filton Avenue this year. Year 3 will be presenting their learning – we hope you can attend.
URL:https://filtonavenue.com/event/exhibition-of-learning-year-3-2/
LOCATION:Orchard Campus
END:VEVENT
BEGIN:VEVENT
DTSTART;TZID=Europe/London:20190712T143000
DTEND;TZID=Europe/London:20190712T153000
DTSTAMP:20260422T112353
CREATED:20190409T103116Z
LAST-MODIFIED:20190409T103116Z
UID:22191-1562941800-1562945400@filtonavenue.com
SUMMARY:Exhibition of Learning – Year 3
DESCRIPTION:Phase 1 Hall Exhibitions of Learning are new to Filton Avenue this year. Reception will be presenting their learning – we hope you can attend.
URL:https://filtonavenue.com/event/exhibition-of-learning-year-3/
LOCATION:Lockleaze Road
END:VEVENT
BEGIN:VEVENT
DTSTART;TZID=Europe/London:20190712T143000
DTEND;TZID=Europe/London:20190712T153000
DTSTAMP:20260422T112353
CREATED:20190220T120426Z
LAST-MODIFIED:20190528T143033Z
UID:21889-1562941800-1562945400@filtonavenue.com
SUMMARY:FFA Lockleaze Road Meeting
DESCRIPTION:Come to the meeting to discuss fundraising ideas and have a say in how the funds raised are spent\, all welcome!
URL:https://filtonavenue.com/event/ffa-lockleaze-road-meeting-3/
LOCATION:Lockleaze Road
END:VEVENT
BEGIN:VEVENT
DTSTART;TZID=Europe/London:20190712T143000
DTEND;TZID=Europe/London:20190712T150000
DTSTAMP:20260422T112353
CREATED:20190703T115717Z
LAST-MODIFIED:20190703T115717Z
UID:22342-1562941800-1562943600@filtonavenue.com
SUMMARY:Exhibition of Learning – Year 3
DESCRIPTION:Hall \nExhibitions of Learning are new to Filton Avenue this year. Year 3 will be presenting their learning – we hope you can attend.
URL:https://filtonavenue.com/event/exhibition-of-learning-year-3-4/
LOCATION:Orchard Campus
END:VEVENT
BEGIN:VEVENT
DTSTART;TZID=Europe/London:20190712T091500
DTEND;TZID=Europe/London:20190712T113000
DTSTAMP:20260422T112353
CREATED:20190529T162934Z
LAST-MODIFIED:20190529T162934Z
UID:22313-1562922900-1562931000@filtonavenue.com
SUMMARY:Exhibition of Learning – Reception
DESCRIPTION:Phase 1 Hall \nExhibitions of Learning are new to Filton Avenue this year. Reception will be presenting their learning – we hope you can attend.
URL:https://filtonavenue.com/event/exhibition-of-learning-reception-3/
LOCATION:Lockleaze Road
END:VEVENT
BEGIN:VEVENT
DTSTART;TZID=Europe/London:20190712T091500
DTEND;TZID=Europe/London:20190712T100000
DTSTAMP:20260422T112353
CREATED:20190703T115614Z
LAST-MODIFIED:20190703T115614Z
UID:22340-1562922900-1562925600@filtonavenue.com
SUMMARY:Exhibition of Learning – Reception
DESCRIPTION:Hall \nExhibitions of Learning are new to Filton Avenue this year. Reception will be presenting their learning – we hope you can attend.
URL:https://filtonavenue.com/event/exhibition-of-learning-reception-4/
LOCATION:Orchard Campus
END:VEVENT
BEGIN:VEVENT
DTSTART;TZID=Europe/London:20190712T091500
DTEND;TZID=Europe/London:20190712T100000
DTSTAMP:20260422T112353
CREATED:20190510T130553Z
LAST-MODIFIED:20190510T130553Z
UID:22254-1562922900-1562925600@filtonavenue.com
SUMMARY:Exhibition of Learning – Reception
DESCRIPTION:Hall \nExhibitions of Learning are new to Filton Avenue this year. Reception will be presenting their learning – we hope you can attend. \n 
URL:https://filtonavenue.com/event/exhibition-of-learning-reception-2/
LOCATION:Orchard Campus
END:VEVENT
BEGIN:VEVENT
DTSTART;TZID=Europe/London:20190712T090000
DTEND;TZID=Europe/London:20190712T100000
DTSTAMP:20260422T112353
CREATED:20190409T103010Z
LAST-MODIFIED:20190409T103010Z
UID:22189-1562922000-1562925600@filtonavenue.com
SUMMARY:Exhibition of Learning – Reception
DESCRIPTION:Phase 1 Hall Exhibitions of Learning are new to Filton Avenue this year. Reception will be presenting their learning – we hope you can attend.
URL:https://filtonavenue.com/event/exhibition-of-learning-reception/
LOCATION:Lockleaze Road
END:VEVENT
BEGIN:VEVENT
DTSTART;TZID=Europe/London:20190712T080000
DTEND;TZID=Europe/London:20190712T170000
DTSTAMP:20260422T112353
CREATED:20190703T115849Z
LAST-MODIFIED:20190703T115849Z
UID:22344-1562918400-1562950800@filtonavenue.com
SUMMARY:Annual Records of Achievement
DESCRIPTION:Your child(ren)’s end of year report will be sent home.
URL:https://filtonavenue.com/event/annual-records-of-achievement-2/
LOCATION:Orchard Campus
END:VEVENT
BEGIN:VEVENT
DTSTART;TZID=Europe/London:20190712T080000
DTEND;TZID=Europe/London:20190712T170000
DTSTAMP:20260422T112353
CREATED:20190409T103200Z
LAST-MODIFIED:20190409T103200Z
UID:22194-1562918400-1562950800@filtonavenue.com
SUMMARY:Annual Records of Achievement
DESCRIPTION:Your child(ren)’s end of year report will be sent home
URL:https://filtonavenue.com/event/annual-records-of-achievement/
LOCATION:Lockleaze Road/Orchard Campus
END:VEVENT
BEGIN:VEVENT
DTSTART;TZID=Europe/London:20190710T143000
DTEND;TZID=Europe/London:20190710T150000
DTSTAMP:20260422T112353
CREATED:20190529T162822Z
LAST-MODIFIED:20190529T162822Z
UID:22311-1562769000-1562770800@filtonavenue.com
SUMMARY:Exhibition of Learning – Year 3
DESCRIPTION:Phase 1 Hall \nExhibitions of Learning are new to Filton Avenue this year. Reception will be presenting their learning – we hope you can attend.
URL:https://filtonavenue.com/event/exhibition-of-learning-year-3-3/
LOCATION:Lockleaze Road
END:VEVENT
BEGIN:VEVENT
DTSTART;VALUE=DATE:20190710
DTEND;VALUE=DATE:20190711
DTSTAMP:20260422T112353
CREATED:20190529T162720Z
LAST-MODIFIED:20190529T162720Z
UID:22309-1562716800-1562803199@filtonavenue.com
SUMMARY:Sports Day – Reception and Year 1
DESCRIPTION:Bristol Civil Service Sports Club \nYou are welcome to come and watch your child(ren) take part in their annual Sports Day. PM Time to be confirmed.
URL:https://filtonavenue.com/event/sports-day-reception-and-year-1/
LOCATION:Lockleaze Road
END:VEVENT
BEGIN:VEVENT
DTSTART;VALUE=DATE:20190708
DTEND;VALUE=DATE:20190713
DTSTAMP:20260422T112353
CREATED:20190409T102906Z
LAST-MODIFIED:20190409T102906Z
UID:22187-1562544000-1562975999@filtonavenue.com
SUMMARY:Barton Camp
DESCRIPTION:Most of our Year 6 pupils will be attending the annual residential trip to Barton Camp.
URL:https://filtonavenue.com/event/barton-camp/
LOCATION:Lockleaze Road/Orchard Campus
END:VEVENT
BEGIN:VEVENT
DTSTART;VALUE=DATE:20190705
DTEND;VALUE=DATE:20190706
DTSTAMP:20260422T112353
CREATED:20190703T114434Z
LAST-MODIFIED:20190703T114434Z
UID:22338-1562284800-1562371199@filtonavenue.com
SUMMARY:Purposeful Play Donation Day
DESCRIPTION:The theme is wheels. Further information to follow.
URL:https://filtonavenue.com/event/purposeful-play-donation-day/
LOCATION:Orchard Campus
END:VEVENT
BEGIN:VEVENT
DTSTART;VALUE=DATE:20190705
DTEND;VALUE=DATE:20190706
DTSTAMP:20260422T112353
CREATED:20190529T162621Z
LAST-MODIFIED:20190529T162621Z
UID:22307-1562284800-1562371199@filtonavenue.com
SUMMARY:Enabling Enterprise Challenge Day – Year 3 - 6
DESCRIPTION:All our Key Stage 2 pupils will be involved in an exciting and engaging day focusing on becoming computer coders for the day. The day culminates in the EE Games Expo\, where teams will present their exciting new games.
URL:https://filtonavenue.com/event/enabling-enterprise-challenge-day-year-3-6-3/
LOCATION:Lockleaze Road
END:VEVENT
BEGIN:VEVENT
DTSTART;TZID=Europe/London:20190704T133000
DTEND;TZID=Europe/London:20190704T180000
DTSTAMP:20260422T112353
CREATED:20190529T162535Z
LAST-MODIFIED:20190529T162535Z
UID:22305-1562247000-1562263200@filtonavenue.com
SUMMARY:Year 6 performance – Cinderella
DESCRIPTION:Year 6 will be performing their much anticipated show\, Roald Dahl’s version of Cinderella. Please ensure you sign-up for tickets to secure your seats!
URL:https://filtonavenue.com/event/year-6-performance-cinderella/
LOCATION:Lockleaze Road
END:VEVENT
BEGIN:VEVENT
DTSTART;TZID=Europe/London:20190704T131500
DTEND;TZID=Europe/London:20190704T144500
DTSTAMP:20260422T112353
CREATED:20190703T114359Z
LAST-MODIFIED:20190703T114359Z
UID:22336-1562246100-1562251500@filtonavenue.com
SUMMARY:Sports Day – Year 3 - 6
DESCRIPTION:OSB Field  \nYou are welcome to come and watch your child(ren) take part in their annual Sports Day.
URL:https://filtonavenue.com/event/sports-day-year-3-6/
LOCATION:Orchard Campus
END:VEVENT
BEGIN:VEVENT
DTSTART;TZID=Europe/London:20190704T090000
DTEND;TZID=Europe/London:20190704T103000
DTSTAMP:20260422T112353
CREATED:20190703T114304Z
LAST-MODIFIED:20190703T114304Z
UID:22334-1562230800-1562236200@filtonavenue.com
SUMMARY:Sports Day – Reception\, Year 1 and 2
DESCRIPTION:OSB Field  \nYou are welcome to come and watch your child(ren) take part in their annual Sports Day.
URL:https://filtonavenue.com/event/sports-day-reception-year-1-and-2/
LOCATION:Orchard Campus
END:VEVENT
BEGIN:VEVENT
DTSTART;TZID=Europe/London:20190702T193000
DTEND;TZID=Europe/London:20190702T203000
DTSTAMP:20260422T112353
CREATED:20190529T162429Z
LAST-MODIFIED:20190529T162429Z
UID:22303-1562095800-1562099400@filtonavenue.com
SUMMARY:School Choir Performance
DESCRIPTION:University of the West of England (UWE) Exhibition Centre\nOur Y5 + 6 choir are performing in the Bristol Plays Music ‘Summer Sing’ concert.
URL:https://filtonavenue.com/event/school-choir-performance/
END:VEVENT
BEGIN:VEVENT
DTSTART;TZID=Europe/London:20190702T133000
DTEND;TZID=Europe/London:20190702T150000
DTSTAMP:20260422T112353
CREATED:20190529T162350Z
LAST-MODIFIED:20190529T162350Z
UID:22301-1562074200-1562079600@filtonavenue.com
SUMMARY:Sports Day – Year 4/5/6
DESCRIPTION:Bristol Civil Service Sports Club \nYou are welcome to come and watch your child(ren) take part in their annual Sports Day.
URL:https://filtonavenue.com/event/sports-day-year-4-5-6/
LOCATION:Lockleaze Road
END:VEVENT
BEGIN:VEVENT
DTSTART;TZID=Europe/London:20190702T094500
DTEND;TZID=Europe/London:20190702T113000
DTSTAMP:20260422T112353
CREATED:20190529T162252Z
LAST-MODIFIED:20190529T162252Z
UID:22299-1562060700-1562067000@filtonavenue.com
SUMMARY:Sports Day – Year 2/3
DESCRIPTION:Bristol Civil Service Sports Club \nYou are welcome to come and watch your child(ren) take part in their annual Sports Day.
URL:https://filtonavenue.com/event/sports-day-year-2-3/
LOCATION:Lockleaze Road
END:VEVENT
BEGIN:VEVENT
DTSTART;TZID=Europe/London:20190629T123000
DTEND;TZID=Europe/London:20190728T143000
DTSTAMP:20260422T112353
CREATED:20190220T120216Z
LAST-MODIFIED:20190528T141805Z
UID:21886-1561811400-1564324200@filtonavenue.com
SUMMARY:FFA Lockleaze Road Summer Fair
DESCRIPTION:Date TBC \nThe summer fair is returning after our successful event last year. More details to follow very soon… 
URL:https://filtonavenue.com/event/ffa-lockleaze-road-summer-fair/
LOCATION:Lockleaze Road
END:VEVENT
BEGIN:VEVENT
DTSTART;TZID=Europe/London:20190628T090000
DTEND;TZID=Europe/London:20190628T150000
DTSTAMP:20260422T112353
CREATED:20190409T102727Z
LAST-MODIFIED:20190409T102727Z
UID:22185-1561712400-1561734000@filtonavenue.com
SUMMARY:Enabling Enterprise Challenge Day – Year 3 - 6
DESCRIPTION:All our Key Stage 2 pupils will be involved in an exciting and engaging day focusing on becoming computer coders for the day. The day culminates in the EE Games Expo\, where teams will present their exciting new games.
URL:https://filtonavenue.com/event/enabling-enterprise-challenge-day-year-3-6/
LOCATION:Lockleaze Road
END:VEVENT
BEGIN:VEVENT
DTSTART;VALUE=DATE:20190628
DTEND;VALUE=DATE:20190629
DTSTAMP:20260422T112353
CREATED:20190503T152410Z
LAST-MODIFIED:20190503T152410Z
UID:22251-1561680000-1561766399@filtonavenue.com
SUMMARY:Enabling Enterprise Challenge Day – Year 3 - 6
DESCRIPTION:All our Key Stage 2 pupils will be involved in an exciting and engaging day focusing on becoming computer coders for the day. The day culminates in the EE Games Expo\, where teams will present their exciting new games.
URL:https://filtonavenue.com/event/enabling-enterprise-challenge-day-year-3-6-2/
LOCATION:Orchard Campus
END:VEVENT
BEGIN:VEVENT
DTSTART;TZID=Europe/London:20190627T090000
DTEND;TZID=Europe/London:20190627T103000
DTSTAMP:20260422T112353
CREATED:20190529T162159Z
LAST-MODIFIED:20190529T162159Z
UID:22297-1561626000-1561631400@filtonavenue.com
SUMMARY:Community Partnership
DESCRIPTION:Please join us for tea/coffee and biscuits\, and have your say on how the school is run. All are welcome\, including young children.
URL:https://filtonavenue.com/event/community-partnership-3/
LOCATION:Lockleaze Road – Community room
END:VEVENT
BEGIN:VEVENT
DTSTART;TZID=Europe/London:20190624T080000
DTEND;TZID=Europe/London:20190624T170000
DTSTAMP:20260422T112353
CREATED:20190529T162117Z
LAST-MODIFIED:20190529T162117Z
UID:22295-1561363200-1561395600@filtonavenue.com
SUMMARY:Year 2 Trip to Concorde Museum
DESCRIPTION:Details to follow
URL:https://filtonavenue.com/event/year-2-trip-to-concorde-museum/
LOCATION:Lockleaze Road
END:VEVENT
BEGIN:VEVENT
DTSTART;TZID=Europe/London:20190621T183000
DTEND;TZID=Europe/London:20190621T203000
DTSTAMP:20260422T112353
CREATED:20190328T140056Z
LAST-MODIFIED:20190328T140056Z
UID:22127-1561141800-1561149000@filtonavenue.com
SUMMARY:FFAO - Yr 6 leavers party
DESCRIPTION:TBC
URL:https://filtonavenue.com/event/ffao-yr-6-leavers-party/
LOCATION:Orchard Campus
END:VEVENT
END:VCALENDAR